BEGIN:VCALENDAR
VERSION:2.0
PRODID:-//eventon.com NONSGML v1.0//EN
BEGIN:VEVENT
UID:69e6387b7cb56
DTSTAMP:20260420T143019
DTSTART:20230408T183000Z
DTEND:20230413T224500Z
LOCATION:
SUMMARY:BIOSKOPSKI REPERTOAR
DESCRIPTION: BIOSKOPSKI REPERTOAR 08-13.04.2023. Subota 08.04. 18:30 Baš super Subota 08.04. 20:30 Munje opet Nedelja 09.04. 18:30 Banda čupavih repova Nedelja 09.04. 20:30 Munje opet Ponedeljak 10.04. 20:30 Čekaj me i vratiću se Utorak 11.04. 20:30 Indigo Kristal Srijeda 12.04. 20:30 Indigo kristal Četvrtak 13.04. 20:30 Dungeons & Dragons Cijena ulaznica:[..]
END:VEVENT
END:VCALENDAR