BEGIN:VCALENDAR
VERSION:2.0
PRODID:-//eventon.com NONSGML v1.0//EN
BEGIN:VEVENT
UID:69e636a3a90fb
DTSTAMP:20260420T142227
DTSTART:20231204T203000Z
DTEND:20231214T203000Z
LOCATION:Dvorana Park Njegoševa bb
SUMMARY:Bioskopski program
DESCRIPTION: Filmovi decembar 2023. godine: &nbsp; ČUVARI FORMULE Dvorana PARK\,  ponedjeljak 4.12. u 20:30h. Cijena ulaznice 4 eura. Informacije na telefon: 068 851 031. U jeku hladnoratovske krize\,  grupa naučnika u Institutu Vinča sprovodi tajni projekat koji predvodi profesor Dragoslav Popović. Sticajem nepredviđenih okolnosti\,  oni bivaju izloženi smrtonosnoj dozi zračenja\,  zbog[..]
END:VEVENT
END:VCALENDAR