BEGIN:VCALENDAR
VERSION:2.0
PRODID:-//eventon.com NONSGML v1.0//EN
BEGIN:VEVENT
UID:69ecf31324758
DTSTAMP:20260425T170003
DTSTART:20240905T203000Z
DTEND:20240905T235000Z
LOCATION:
SUMMARY:BITLĐUS\,  BITLĐUS
DESCRIPTION: Dvorana PARK u  20:30h 104 min Bitlđus se vratio! Kreativni vizionar Tim Barton i Majkl Kiton još jednom udružuju snage u spektakularnom povratku kultne franšize koja je obilježila istoriju bioskopa. Nakon neočekivane porodične tragedije\,  tri generacije porodice Dic vraćaju se kući u Zimsku rijeku. Njihovi životi se okreću naglavačke kada[..]
END:VEVENT
END:VCALENDAR